BEGIN:VCALENDAR
VERSION:2.0
PRODID:-//Government of Guam, Department of Labor - ECPv3.12.5//NONSGML v1.0//EN
CALSCALE:GREGORIAN
METHOD:PUBLISH
X-WR-CALNAME:Government of Guam, Department of Labor
X-ORIGINAL-URL:https://dol.guam.gov
X-WR-CALDESC:Events for Government of Guam, Department of Labor
BEGIN:VEVENT
DTSTART:20210322T230000Z
DTEND:20210323T010000Z
DTSTAMP:20210511T051928Z
CREATED:20201228T045716Z
LAST-MODIFIED:20210312T012126Z
UID:5928-1616454000-1616461200@dol.guam.gov
SUMMARY:Zoom Labor Clinics for Businesses: Harassment in the Workplace
DESCRIPTION:Title: Harassment in the Workplace\n\nDate: Tuesday\, March 23\, 2021\nTime: 9:00am – 11:00am\n\nTrainer: Jeffrey Sablan\, FEPO Administrator\nTarget Audience: Employers\, Human Resource Staff\, Business Reps\n\nAttendance: Limited to 20 participants (REGISTRATION CLOSED)\n*Zoom meeting details will be provided prior to the event\n\nCost: No Cost\n\nWorkshop Content: Prevention is the key to eliminating harassment in the workplace. This workshop includes detailed overview on what harassment is\, types of harassments\, discusses sexual harassment prevention\, employer liability and policy\, as well as preventive and corrective actions.
URL:https://dol.guam.gov/event/zoom-labor-clinics-for-businesses-harassment-in-the-workplace/
CATEGORIES:Department of Labor Clinics
END:VEVENT
END:VCALENDAR