BEGIN:VCALENDAR
VERSION:2.0
PRODID:-//Government of Guam, Department of Labor - ECPv5.16.2.1//NONSGML v1.0//EN
CALSCALE:GREGORIAN
METHOD:PUBLISH
X-WR-CALNAME:Government of Guam, Department of Labor
X-ORIGINAL-URL:https://dol.guam.gov
X-WR-CALDESC:Events for Government of Guam, Department of Labor
BEGIN:VTIMEZONE
TZID:Australia/Melbourne
BEGIN:STANDARD
TZOFFSETFROM:+1100
TZOFFSETTO:+1000
TZNAME:AEST
DTSTART:20210403T160000
END:STANDARD
BEGIN:DAYLIGHT
TZOFFSETFROM:+1000
TZOFFSETTO:+1100
TZNAME:AEDT
DTSTART:20211002T160000
END:DAYLIGHT
END:VTIMEZONE
BEGIN:VEVENT
DTSTART;TZID=Australia/Melbourne:20210114T090000
DTEND;TZID=Australia/Melbourne:20210114T103000
DTSTAMP:20260426T025117
CREATED:20201220T233435Z
LAST-MODIFIED:20201220T233548Z
UID:5916-1610614800-1610620200@dol.guam.gov
SUMMARY:Zoom Labor Clinics for Businesses: Fair Chances Hiring Process Act
DESCRIPTION:CLICK HERE TO REGISTER NOW\nClick Here to View PDF Flyer \nTitle: Fair Chances Hiring Process Act\nDate: Thursday\, January 14\, 2021\nTime: 9:00am – 10:30am\nTrainer: Jeffrey Sablan\, FEPO Administrator \nTarget Audience: Employers\, Human Resource Staff\, Business Reps\nAttendance: Limited to 20 participants\n*Zoom meeting details will be provided upon registration confirmation \nCost: No Cost \nWorkshop Content: Attendees will learn how to navigate through the Fair Chances Hiring Process Act (FCHPA). Applicants are not required to disclose any information regarding their criminal history until the time that a conditional offer of employment has been extended. Attendees will also learn and understand best practices\, general rules\, plus FCHPA Tools used to help assist employers when deciding to fill their staffing needs.
URL:https://dol.guam.gov/event/zoom-labor-clinics-for-businesses/
CATEGORIES:Department of Labor Clinics
END:VEVENT
END:VCALENDAR