BEGIN:VCALENDAR
VERSION:2.0
PRODID:-//Government of Guam, Department of Labor - ECPv5.16.2.1//NONSGML v1.0//EN
CALSCALE:GREGORIAN
METHOD:PUBLISH
X-WR-CALNAME:Government of Guam, Department of Labor
X-ORIGINAL-URL:https://dol.guam.gov
X-WR-CALDESC:Events for Government of Guam, Department of Labor
BEGIN:VTIMEZONE
TZID:Australia/Melbourne
BEGIN:STANDARD
TZOFFSETFROM:+1100
TZOFFSETTO:+1000
TZNAME:AEST
DTSTART:20190406T160000
END:STANDARD
BEGIN:DAYLIGHT
TZOFFSETFROM:+1000
TZOFFSETTO:+1100
TZNAME:AEDT
DTSTART:20191005T160000
END:DAYLIGHT
END:VTIMEZONE
BEGIN:VEVENT
DTSTART;TZID=Australia/Melbourne:20190814T093000
DTEND;TZID=Australia/Melbourne:20190814T120000
DTSTAMP:20260426T031631
CREATED:20190714T234604Z
LAST-MODIFIED:20190714T234604Z
UID:4613-1565775000-1565784000@dol.guam.gov
SUMMARY:Labor Clinic for Businesses: Construction and General Industry – Reporting Requirements
DESCRIPTION:CLICK HERE TO REGISTER NOW\nClick here to view PDF Flyer \nTitle: Labor Clinic for Businesses: Construction and General Industry – Reporting Requirements\nDate: August 14\, 2019\nTime: 9:30am – 12:00pm\nTrainer: Jesse Pangelinan\, OSHA On-Site Consultation Program Manager \nLocation: AJC\, 3rd Floor Conference Room\n710 West Marine Corps Dr. Ste 301 Bell Tower Plaza\nHagatna\, Guam 96910\n(Across 76 Anigua) \nTarget Audience: Business Representatives / Employers and Human Resource Staff \nSeating: Limited to 30 \nCost: No Cost\nWorkshop Content: Learn how to properly fill OSHA 300\,300A\, 301 Forms\, reporting procedures\, and posting requirements. \nContact Information:\nBusiness Services Representative\nEmail: bsr@nulldol.guam.gov or call: 671-300-4588
URL:https://dol.guam.gov/event/labor-clinic-for-businesses-construction-and-general-industry-reporting-requirements/
LOCATION:American Job Center (AJC) Conference Room\, 710 West Marine Corps Dr\, Bell Tower Plaza\, Hagatna\, Guam
CATEGORIES:Department of Labor Clinics
END:VEVENT
END:VCALENDAR