BEGIN:VCALENDAR
VERSION:2.0
PRODID:-//Government of Guam, Department of Labor - ECPv5.16.2.1//NONSGML v1.0//EN
CALSCALE:GREGORIAN
METHOD:PUBLISH
X-WR-CALNAME:Government of Guam, Department of Labor
X-ORIGINAL-URL:https://dol.guam.gov
X-WR-CALDESC:Events for Government of Guam, Department of Labor
BEGIN:VTIMEZONE
TZID:Australia/Melbourne
BEGIN:STANDARD
TZOFFSETFROM:+1100
TZOFFSETTO:+1000
TZNAME:AEST
DTSTART:20190406T160000
END:STANDARD
BEGIN:DAYLIGHT
TZOFFSETFROM:+1000
TZOFFSETTO:+1100
TZNAME:AEDT
DTSTART:20191005T160000
END:DAYLIGHT
END:VTIMEZONE
BEGIN:VEVENT
DTSTART;TZID=Australia/Melbourne:20190810T100000
DTEND;TZID=Australia/Melbourne:20190810T113000
DTSTAMP:20260426T113035
CREATED:20190801T071433Z
LAST-MODIFIED:20190801T071433Z
UID:4644-1565431200-1565436600@dol.guam.gov
SUMMARY:Labor Clinic for Businesses: CONFERENCE WITH EEOC DIRECTOR HONOLULU AND THE PACIFIC TERRITORIES
DESCRIPTION:CLICK HERE TO REGISTER NOW\nClick here to View PDF Flyer \nTitle: Labor Clinic for Businesses: CONFERENCE WITH EEOC DIRECTOR HONOLULU AND THE PACIFIC TERRITORIES\nDate: AUGUST 10\, 2019 (Saturday)\nTime:10:00am – 11:30am\nTrainer: Glory Gervacio Suare\, EEOC Director Honolulu and the Pacific Territories \nLocation: AJC BELL TOWER\, 3rd Floor Conference Room\n710 W. Marine Corps Drive Ste 301\nHagatna\, Guam 96910 \nTarget Audience: Business Representatives / Employers and Human Resource Staff\nSeating: Limited to 40 \nCost: No Cost\nWorkshop Content: Glory Gervacio Saure oversees EEOC’s operations in the state of Hawaii and the U.S. territories of Guam\, American Samoa\, Wake Island and the Commonwealth of the Northern Mariana Islands. “Glory Gervacio Saure has expertly and graciously served the public through the EEOC for many years\,” said Rosa M. Viramontes\, district director for the EEOC’s Los Angeles District\, which oversees the Honolulu Local Office.\n“Ms. Gervacio Saure’s long-standing ties within the communities in Hawaii and her incredible experience in investigating employment discrimination cases will serve her well as she assumes leadership of the Honolulu office.”\nShe worked as an enforcement investigator for nearly 14 years at the EEOC’s Honolulu Local Office and often provides outreach and educational assistance to various communities in her jurisdiction. Gervacio Saure has been the recipient of several awards\, including the 2014 EEOC Chair’s Bronze Medal Award for Advancing Equality through Excellence.\nGervacio Saure said\, “Eradicating unlawful discrimination in the workplace is my life’s work. I am honored to continue that work in my new leadership capacity. It is my great honor to serve the communities in Hawaii and the Pacific.” \nContact Information: Business Services Representative\nEmail: bsr@nulldol.guam.gov or call: 671-300-4588
URL:https://dol.guam.gov/event/labor-clinic-for-businesses-conference-with-eeoc-director-honolulu-and-the-pacific-territories/
LOCATION:American Job Center (AJC) Conference Room\, 710 West Marine Corps Dr\, Bell Tower Plaza\, Hagatna\, Guam
CATEGORIES:Department of Labor Clinics
END:VEVENT
END:VCALENDAR