BEGIN:VCALENDAR
VERSION:2.0
PRODID:-//Government of Guam, Department of Labor - ECPv5.16.2.1//NONSGML v1.0//EN
CALSCALE:GREGORIAN
METHOD:PUBLISH
X-WR-CALNAME:Government of Guam, Department of Labor
X-ORIGINAL-URL:https://dol.guam.gov
X-WR-CALDESC:Events for Government of Guam, Department of Labor
BEGIN:VTIMEZONE
TZID:Australia/Melbourne
BEGIN:STANDARD
TZOFFSETFROM:+1100
TZOFFSETTO:+1000
TZNAME:AEST
DTSTART:20190406T160000
END:STANDARD
BEGIN:DAYLIGHT
TZOFFSETFROM:+1000
TZOFFSETTO:+1100
TZNAME:AEDT
DTSTART:20191005T160000
END:DAYLIGHT
END:VTIMEZONE
BEGIN:VEVENT
DTSTART;TZID=Australia/Melbourne:20190725T090000
DTEND;TZID=Australia/Melbourne:20190725T113000
DTSTAMP:20260425T220817
CREATED:20190711T233142Z
LAST-MODIFIED:20190711T233142Z
UID:4589-1564045200-1564054200@dol.guam.gov
SUMMARY:Labor Clinic for Businesses: Concrete Shoring\, and Formwork Safety Awareness
DESCRIPTION:CLICK HERE TO REGISTER NOW\nClick here to View PDF Flyer \nTitle: Labor Clinic for Businesses: Concrete Shoring\, and Formwork Safety Awareness\nDate: July 25\, 2019\nTime: 9:00am – 11:30pm\nTrainer: Jesse Pangelinan\, OSHA On-Site Consultation Program Manager \nLocation: American Job Center 3rd Floor Conference Room\n(Across 76 Anigua)\n710 West Marine Corps Drive\, Bell Tower Plaza\nHagatna\, Guam 96910 \nTarget Audience: Business Representatives\, Employers and Human Resource Staff\nSeating: Limited to 30 \nCost: No Cost \nWorkshop Content: This course introduces principles of forms and shoring. \nContact Information: Business Services Representative\nEmail: bsr@nulldol.guam.gov or call: 671-300-4588
URL:https://dol.guam.gov/event/labor-clinic-for-businesses-concrete-shoring-and-formwork-safety-awareness/
LOCATION:American Job Center (AJC) Conference Room\, 710 West Marine Corps Dr\, Bell Tower Plaza\, Hagatna\, Guam
CATEGORIES:Department of Labor Clinics
END:VEVENT
END:VCALENDAR