BEGIN:VCALENDAR
VERSION:2.0
PRODID:-//Government of Guam, Department of Labor - ECPv5.16.2.1//NONSGML v1.0//EN
CALSCALE:GREGORIAN
METHOD:PUBLISH
X-WR-CALNAME:Government of Guam, Department of Labor
X-ORIGINAL-URL:https://dol.guam.gov
X-WR-CALDESC:Events for Government of Guam, Department of Labor
BEGIN:VTIMEZONE
TZID:Australia/Melbourne
BEGIN:STANDARD
TZOFFSETFROM:+1100
TZOFFSETTO:+1000
TZNAME:AEST
DTSTART:20190406T160000
END:STANDARD
BEGIN:DAYLIGHT
TZOFFSETFROM:+1000
TZOFFSETTO:+1100
TZNAME:AEDT
DTSTART:20191005T160000
END:DAYLIGHT
END:VTIMEZONE
BEGIN:VEVENT
DTSTART;TZID=Australia/Melbourne:20190723T090000
DTEND;TZID=Australia/Melbourne:20190723T120000
DTSTAMP:20260425T220822
CREATED:20190212T045233Z
LAST-MODIFIED:20190212T045233Z
UID:4081-1563872400-1563883200@dol.guam.gov
SUMMARY:Labor Clinic for Businesses: Registered Apprenticeship Programs
DESCRIPTION:CLICK HERE TO REGISTER NOW\nClick here to View PDF Flyer \nTitle: Labor Clinic for Businesses: Registered Apprenticeship Programs\nDate: Tuesday\, July 23\, 2019\nTime: 9:00am – 12:00pm\nTrainer: Phyllis Topasna\, Program Coordinator II \nLocation:\nAmerican Job Center\, Guam 3rd Floor Conference Room\n710 West Marine Corps Drive\, Suite 301 Bell Tower Plaza\,\nHagatna\, Guam 96910 \n\nTarget Audience: Business Representatives / Employers and Human Resource Staff\nSeating: Limited to 30 \nCost: No Cost\nWorkshop Content: Registered Apprenticeship program offers employers in every industry the tools to develop a highly skilled workforce to help grow their business. For workers\, apprenticeship offers opportunities to earn a salary while learning the skills necessary to succeed in high-demand careers. Registered Apprenticeship exemplifies high standards\, instructional rigor and quality training. Whether you are an employer looking to hire\, train or retain a skilled workforce\, or a worker looking for a new career in a well-paying occupation\, apprenticeship will help achieve those goals. Learn about employer incentives that offset business privilege tax equal to the amount of fifty (50) percent of all eligible cost paid or incurred for training apprentices. \nContact Information: Business Services Representative\nEmail: bsr@nulldol.guam.gov or call: 671-475-7044
URL:https://dol.guam.gov/event/labor-clinic-for-businesses-registered-apprenticeship-programs-9/
LOCATION:American Job Center (AJC) Conference Room\, 710 West Marine Corps Dr\, Bell Tower Plaza\, Hagatna\, Guam
CATEGORIES:Department of Labor Clinics
END:VEVENT
END:VCALENDAR