BEGIN:VCALENDAR
VERSION:2.0
PRODID:-//Government of Guam, Department of Labor - ECPv3.12.5//NONSGML v1.0//EN
CALSCALE:GREGORIAN
METHOD:PUBLISH
X-WR-CALNAME:Government of Guam, Department of Labor
X-ORIGINAL-URL:https://dol.guam.gov
X-WR-CALDESC:Events for Government of Guam, Department of Labor
BEGIN:VEVENT
DTSTART:20190325T230000Z
DTEND:20190326T020000Z
DTSTAMP:20210806T174355Z
CREATED:20190117T063529Z
LAST-MODIFIED:20190117T063529Z
UID:4002-1553554800-1553565600@dol.guam.gov
SUMMARY:Labor Clinic for Businesses: Alien Labor Processing & Certification Division (ALPCD)
DESCRIPTION:\nCLICK HERE TO REGISTER NOW\nClick here to view PDF Flyer\nTitle: Labor Clinic for Businesses: Alien Labor Processing & Certification Division (ALPCD)\nDate: Tuesday\, March 26\, 2019\nTime: 9:00am – 12:00pm\nTrainer: Greg Massey\, ALPCD Administrator\nLocation: GCIC Bldg\, 3rd Floor Conference Room\n414 West Soledad Avenue Suite 400 GCIC Building\nHagatna\, Guam 96910\nTarget Audience: Business Representatives / Employers and Human Resource Staff\nSeating: Limited to 30\nCost: No Cost\nWorkshop Content: ALPCD offers training on matters related to the petitioning and employment of H-2B workers on Guam. Intermediate- Understanding & Preparing H-2B Labor Certifications Focused on what an employer needs to know before\, during and after filing their labor certification application with the Department of Labor. Attendees should have a general understanding of the program in order to properly understand the subject matter to be covered.\nContact Information:\nBusiness Services Representative\nEmail: bsr@dol.guam.gov or call: 671-475-7044
URL:https://dol.guam.gov/event/labor-clinic-for-businesses-alien-labor-processing-certification-division-alpcd-2/
LOCATION:710 West Marine Corps Dr\, Bell Tower Plaza\, Hagatna\, Guam
CATEGORIES:Department of Labor Clinics
END:VEVENT
END:VCALENDAR