BEGIN:VCALENDAR
VERSION:2.0
PRODID:-//Government of Guam, Department of Labor - ECPv3.12.5//NONSGML v1.0//EN
CALSCALE:GREGORIAN
METHOD:PUBLISH
X-WR-CALNAME:Government of Guam, Department of Labor
X-ORIGINAL-URL:https://dol.guam.gov
X-WR-CALDESC:Events for Government of Guam, Department of Labor
BEGIN:VEVENT
DTSTART:20190225T230000Z
DTEND:20190226T020000Z
DTSTAMP:20210806T174256Z
CREATED:20190218T000454Z
LAST-MODIFIED:20190218T000454Z
UID:4129-1551135600-1551146400@dol.guam.gov
SUMMARY:Labor Clinic for Businesses: Guam’s Wage & Hour Provisions
DESCRIPTION:\nCLICK HERE TO REGISTER NOW\nClick here to View PDF Flyer\nTitle: Labor Clinic for Businesses: Guam’s Wage & Hour Provisions\nDate: Tuesday\, February 26\, 2019\nTime: 9:00am to 12pm\nTrainer: Thea Juaneza\, Employment Development Worker II\nLocation: GCIC Bldg\, 3rd Floor Conference Room\n414 West Soledad Avenue Suite 400 GCIC Building\nHagatna\, Guam 96910\nTarget Audience: Business Representatives / Employers & Human Resource Staff\nSeating: Limited to 30\nCost: No Cost\nWorkshop Content: Provides employers with the tools they need to operate in compliance with the variety of local labor laws enforced by the Division. WHD offers a number of useful compliance resources intended to provide employers with readily accessible\, easy-to-understand information relevant to both their rights and to their responsibilities under the law. Topics discussed include: Pay and Benefits\, Posters and Recordkeeping\, Youth Employment\, Fair Labor Standards Act\, access to downloadable workplace posters\, and critical information to guide employers toward operating their businesses in full compliance with federal and local labor regulations.\nContact Information: Business Services Representative\nEmail: bsr@dol.guam.gov or call: 671-475-7044
URL:https://dol.guam.gov/event/labor-clinic-for-businesses-guams-wage-hour-provisions/
LOCATION:414 West Soledad Ave\, GCIC Building\, Hagatna\, 96910\, Guam
CATEGORIES:Department of Labor Clinics
END:VEVENT
END:VCALENDAR