BEGIN:VCALENDAR
VERSION:2.0
PRODID:-//Government of Guam, Department of Labor - ECPv5.16.2.1//NONSGML v1.0//EN
CALSCALE:GREGORIAN
METHOD:PUBLISH
X-WR-CALNAME:Government of Guam, Department of Labor
X-ORIGINAL-URL:https://dol.guam.gov
X-WR-CALDESC:Events for Government of Guam, Department of Labor
BEGIN:VTIMEZONE
TZID:Australia/Melbourne
BEGIN:STANDARD
TZOFFSETFROM:+1100
TZOFFSETTO:+1000
TZNAME:AEST
DTSTART:20190406T160000
END:STANDARD
BEGIN:DAYLIGHT
TZOFFSETFROM:+1000
TZOFFSETTO:+1100
TZNAME:AEDT
DTSTART:20191005T160000
END:DAYLIGHT
END:VTIMEZONE
BEGIN:VEVENT
DTSTART;TZID=Australia/Melbourne:20190207T090000
DTEND;TZID=Australia/Melbourne:20190207T120000
DTSTAMP:20260425T133621
CREATED:20190115T041118Z
LAST-MODIFIED:20190115T041118Z
UID:3997-1549530000-1549540800@dol.guam.gov
SUMMARY:Labor Clinic for Businesses: US DOL Overview of OFCCP and Affirmative Action
DESCRIPTION:CLICK HERE TO REGISTER NOW\nClick here to view PDF Flyer \nTitle: Labor Clinic for Businesses: US DOL Overview of OFCCP and Affirmative Action\nDate: Thursday\, February 07\, 2019\nTime: 9:00am – 12:00pm\nTrainer: Philip Marlowe\, US DOL Office of Federal Contract Compliance Programs (OFCCP) \nLocation: GCIC Bldg\, 3rd Floor Conference Room\n414 West Soledad Avenue Suite 400 GCIC Building\nHagatna\, Guam 96910 \nTarget Audience: Business Representatives / Employers and Human Resource Staff\nSeating: Limited to 30\nCost: No Cost \nWorkshop Content: This clinic provides an introduction to OFCCP and Affirmative Action. It includes OFCCP’S mission\, the laws we enforce\, which employers are covered\, which employees and applicants are covered\, and how we ensure that those employers who are covered comply with the regulatory requirements. The presentation is directed at employers who are considering entering into federal contracting. It may be your first exposure to the agency and the requirements that come with receiving federal contract and subcontract dollars. For those employers who are established (new or otherwise) federal contractors serving as either a prime or sub-contractor\, this presentation will serve as a review of OFCCP’s mission\, affirmative action\, laws\, priorities and evaluation & complaint process. \nContact Information: Business Services Representative\nEmail: bsr@nulldol.guam.gov or call: 671-475-7044
URL:https://dol.guam.gov/event/labor-clinic-for-businesses-us-dol-overview-of-ofccp-and-affirmative-action/
LOCATION:GDOL Conference Room (3rd Floor)\, 414 West Soledad Ave\, GCIC Building\, Hagatna\, 96910\, Guam
CATEGORIES:Department of Labor Clinics
END:VEVENT
END:VCALENDAR