BEGIN:VCALENDAR
VERSION:2.0
PRODID:-//Government of Guam, Department of Labor - ECPv5.16.2.1//NONSGML v1.0//EN
CALSCALE:GREGORIAN
METHOD:PUBLISH
X-WR-CALNAME:Government of Guam, Department of Labor
X-ORIGINAL-URL:https://dol.guam.gov
X-WR-CALDESC:Events for Government of Guam, Department of Labor
BEGIN:VTIMEZONE
TZID:Australia/Melbourne
BEGIN:STANDARD
TZOFFSETFROM:+1100
TZOFFSETTO:+1000
TZNAME:AEST
DTSTART:20210403T160000
END:STANDARD
BEGIN:DAYLIGHT
TZOFFSETFROM:+1000
TZOFFSETTO:+1100
TZNAME:AEDT
DTSTART:20211002T160000
END:DAYLIGHT
END:VTIMEZONE
BEGIN:VEVENT
DTSTART;TZID=Australia/Melbourne:20210423T150000
DTEND;TZID=Australia/Melbourne:20210423T150000
DTSTAMP:20260426T121702
CREATED:20210416T020412Z
LAST-MODIFIED:20210416T020412Z
UID:6148-1619190000-1619190000@dol.guam.gov
SUMMARY:Workers’ Compensation Commission Board Meeting
DESCRIPTION:PUBLIC NOTICE \n3:00 PM – Workers’ Compensation Commission Board \nThe Department of Labor (GDOL) would like to announce that the Workers’ Compensation Commission (WCC) Board Meeting is scheduled for April 23\, 2021 at 3:00pm via Zoom Video Conferencing. \nJoin Zoom Meeting: https://us02web.zoom.us/j/85807293516?pwd=L2Y4N3pIUzBjU2pkUlJTc1pLdkRLUT09https://us02web.zoom.us/j/87319681895?pwd=dHNGQS9iTTh3bzJ3dEVNTnlsZ2w3QT09 \nMeeting ID: 858 0729 3516 \nPasscode: 432782 \nFor individuals requiring special accommodations\, auxiliary aids or services\, please call GDOL at 475-7044.
URL:https://dol.guam.gov/event/workers-compensation-commission-board-meeting-2/
CATEGORIES:Guam Department of Labor
END:VEVENT
END:VCALENDAR