BEGIN:VCALENDAR
VERSION:2.0
PRODID:-//Government of Guam, Department of Labor - ECPv3.12.5//NONSGML v1.0//EN
CALSCALE:GREGORIAN
METHOD:PUBLISH
X-WR-CALNAME:Government of Guam, Department of Labor
X-ORIGINAL-URL:https://dol.guam.gov
X-WR-CALDESC:Events for Government of Guam, Department of Labor
BEGIN:VEVENT
DTSTART:20211215T230000Z
DTEND:20211216T010000Z
DTSTAMP:20210627T230310Z
CREATED:20210218T055308Z
LAST-MODIFIED:20210218T055308Z
UID:6071-1639609200-1639616400@dol.guam.gov
SUMMARY:Zoom Labor Clinics for Businesses: Registered Apprenticeship
DESCRIPTION:\nCLICK HERE TO REGISTER NOW\nClick here to View PDF Flyer\nTitle: Registered Apprenticeship\nDate: Thursday\, December 16\, 2021\nTime: 9:00am – 11:00 AM\n\nFacilitator: Phyllis Topasna\, Program Coordinator II\nTarget Audience: Employers\, Human Resource Staff\nZoom meeting details will be provided prior to the event\n\n*There is no cost for this event\n\nWorkshop Content: Learn how the Registered Apprenticeship system\, which has been utilized to meet the needs of America's skilled workforce for over 75 years\, can help your company build its workforce and how your company can offset your business privilege tax equal to the amount of fifty percent (50%) of all eligible costs paid or incurred by your company to train your apprentices.
URL:https://dol.guam.gov/event/zoom-labor-clinics-for-businesses-registered-apprenticeship-4/
CATEGORIES:Department of Labor Clinics
END:VEVENT
END:VCALENDAR