BEGIN:VCALENDAR
VERSION:2.0
PRODID:-//Government of Guam, Department of Labor - ECPv5.16.2.1//NONSGML v1.0//EN
CALSCALE:GREGORIAN
METHOD:PUBLISH
X-WR-CALNAME:Government of Guam, Department of Labor
X-ORIGINAL-URL:https://dol.guam.gov
X-WR-CALDESC:Events for Government of Guam, Department of Labor
BEGIN:VTIMEZONE
TZID:Australia/Melbourne
BEGIN:STANDARD
TZOFFSETFROM:+1100
TZOFFSETTO:+1000
TZNAME:AEST
DTSTART:20210403T160000
END:STANDARD
BEGIN:DAYLIGHT
TZOFFSETFROM:+1000
TZOFFSETTO:+1100
TZNAME:AEDT
DTSTART:20211002T160000
END:DAYLIGHT
END:VTIMEZONE
BEGIN:VEVENT
DTSTART;TZID=Australia/Melbourne:20210909T090000
DTEND;TZID=Australia/Melbourne:20210909T100000
DTSTAMP:20260426T033937
CREATED:20210817T050829Z
LAST-MODIFIED:20210817T052744Z
UID:6440-1631178000-1631181600@dol.guam.gov
SUMMARY:Fair Chances Hiring Process Act
DESCRIPTION:CLICK HERE TO REGISTER NOW\nClick here to View PDF Flyer \n  \nTitle: Fair Chances Hiring Process Act \nDate: Thursday\, September 09\, 2021\nTime: 9:00am – 10:00am \nTrainer: Jeffrey Sablan\, FEPO Administrator \nLocation: 710 West Marine Corps Drive-Suite 301 Bell Tower Plaza\nHagatna\, Guam 96910\n(Across 76 Circle K Gas Station Anigua) \nTarget Audience: Employers\, Human Resource Practitioners\, Business Reps\nSeating: Limited to 20\nMax Participants: A limit of 3 participants per employer. \nCost: No Cost \nWorkshop Content: Fair Chances Hiring Process Act Thursday\, September 09\, 20219:00am – 10:00amJeffrey Sablan\, FEPO Administrator 710 West Marine Corps Drive-Suite 301 Bell Tower Plaza Hagatna\, Guam 96910 (Across 76 Circle K Gas Station Anigua) Employers\, Human Resource Practitioners\, Business Reps Limited to 20 A limit of 3 participants per employer.No Cost Attendees will learn how to navigate through the Fair Chances Hiring Process Act (FCHPA) which applicants will not be required to disclose any information regarding their criminal history until the time that a conditional offer of employment has been extended. Attendees will also learn and understand best practices\, general rules\, plus FCHPA Tools used to help assist employers when deciding to recruit of fill their staffing needs.
URL:https://dol.guam.gov/event/fair-chances-hiring-process-act-4/
LOCATION:American Job Center (AJC) Conference Room\, 710 West Marine Corps Dr\, Bell Tower Plaza\, Hagatna\, Guam
CATEGORIES:Department of Labor Clinics
END:VEVENT
END:VCALENDAR