BEGIN:VCALENDAR
VERSION:2.0
PRODID:-//Government of Guam, Department of Labor - ECPv5.16.2.1//NONSGML v1.0//EN
CALSCALE:GREGORIAN
METHOD:PUBLISH
X-WR-CALNAME:Government of Guam, Department of Labor
X-ORIGINAL-URL:https://dol.guam.gov
X-WR-CALDESC:Events for Government of Guam, Department of Labor
BEGIN:VTIMEZONE
TZID:Australia/Melbourne
BEGIN:STANDARD
TZOFFSETFROM:+1100
TZOFFSETTO:+1000
TZNAME:AEST
DTSTART:20210403T160000
END:STANDARD
BEGIN:DAYLIGHT
TZOFFSETFROM:+1000
TZOFFSETTO:+1100
TZNAME:AEDT
DTSTART:20211002T160000
END:DAYLIGHT
END:VTIMEZONE
BEGIN:VEVENT
DTSTART;TZID=Australia/Melbourne:20210616T140000
DTEND;TZID=Australia/Melbourne:20210616T140000
DTSTAMP:20260426T045847
CREATED:20210608T030611Z
LAST-MODIFIED:20210608T030801Z
UID:6221-1623852000-1623852000@dol.guam.gov
SUMMARY:Workers' Compensation Commission Formal Hearing
DESCRIPTION:The Workers’ Compensation Commission (WCC) will be conducting a Formal Hearing for Brent Paulino on Wednesday\, June 16\, 2021 at 2:00pm; GCIC Bldg 3rd Floor Conference Room. \nFor individuals requiring special accommodations\, auxiliary aids or services\, please contact The Workers’ Compensation Commission at (671) 300-4571.
URL:https://dol.guam.gov/event/workers-compensation-commission-formal-hearing-2/
LOCATION:GDOL Conference Room (3rd Floor)\, 414 West Soledad Ave\, GCIC Building\, Hagatna\, 96910\, Guam
CATEGORIES:Guam Department of Labor
END:VEVENT
END:VCALENDAR