BEGIN:VCALENDAR
VERSION:2.0
PRODID:-//Government of Guam, Department of Labor - ECPv3.12.5//NONSGML v1.0//EN
CALSCALE:GREGORIAN
METHOD:PUBLISH
X-WR-CALNAME:Government of Guam, Department of Labor
X-ORIGINAL-URL:https://dol.guam.gov
X-WR-CALDESC:Events for Government of Guam, Department of Labor
BEGIN:VEVENT
DTSTART:20210215T230000Z
DTEND:20210216T003000Z
DTSTAMP:20210511T052115Z
CREATED:20210201T051434Z
LAST-MODIFIED:20210201T051434Z
UID:6042-1613430000-1613435400@dol.guam.gov
SUMMARY:Zoom Labor Clinics for Businesses: General Industry - Walking-Working Surfaces
DESCRIPTION:\nCLICK HERE TO REGISTER NOW\nClick here to View PDF Flyer\nTitle: General Industry - Walking-Working Surfaces\nDate: Tuesday\, February 16\, 2021\nTime: 9:00am – 10:30am\n\nTrainer: Jesse Pangelinan\, Safety Administrator\nTarget Audience: Employers\, Human Resource Staff\n\n*Zoom meeting details will be provided prior to the event\n\nCost: There is No Cost associated with this clinic. Therefore\, the presenter is providing general information based on compliance and enforcement guidelines.\n\nWorkshop Content: Learn more about general requirements\, ladders\, steps\, stairways and scaffolds\, as they apply to Subpart D\, walking-working surfaces.
URL:https://dol.guam.gov/event/zoom-labor-clinics-for-businesses-general-industry-walking-working-surfaces/
CATEGORIES:Department of Labor Clinics
END:VEVENT
END:VCALENDAR