BEGIN:VCALENDAR
VERSION:2.0
PRODID:-//Government of Guam, Department of Labor - ECPv3.12.5//NONSGML v1.0//EN
CALSCALE:GREGORIAN
METHOD:PUBLISH
X-WR-CALNAME:Government of Guam, Department of Labor
X-ORIGINAL-URL:https://dol.guam.gov
X-WR-CALDESC:Events for Government of Guam, Department of Labor
BEGIN:VEVENT
DTSTART:20210210T230000Z
DTEND:20210211T003000Z
DTSTAMP:20210511T052058Z
CREATED:20201220T234013Z
LAST-MODIFIED:20201220T234013Z
UID:5920-1612998000-1613003400@dol.guam.gov
SUMMARY:Zoom Labor Clinics for Businesses: Fair Chances Hiring Process Act
DESCRIPTION:\nCLICK HERE TO REGISTER NOW\nClick Here to View PDF Flyer\n\Title: Fair Chances Hiring Process Act\nDate: Thursday\, February 11\, 2021\nTime: 9:00am – 10:30am\nTrainer: Jeffrey Sablan\, FEPO Administrator\n\nTarget Audience: Employers\, Human Resource Staff\, Business Reps\nAttendance: Limited to 20 participants\n*Zoom meeting details will be provided upon registration confirmation\n\nCost: No Cost\n\nWorkshop Content: Attendees will learn how to navigate through the Fair Chances Hiring Process Act (FCHPA). Applicants are not required to disclose any information regarding their criminal history until the time that a conditional offer of employment has been extended. Attendees will also learn and understand best practices\, general rules\, plus FCHPA Tools used to help assist employers when deciding to fill their staffing needs.
URL:https://dol.guam.gov/event/zoom-labor-clinics-for-businesses-fair-chances-hiring-process-act-2/
CATEGORIES:Department of Labor Clinics
END:VEVENT
END:VCALENDAR