BEGIN:VCALENDAR
VERSION:2.0
PRODID:-//Government of Guam, Department of Labor - ECPv5.16.2.1//NONSGML v1.0//EN
CALSCALE:GREGORIAN
METHOD:PUBLISH
X-WR-CALNAME:Government of Guam, Department of Labor
X-ORIGINAL-URL:https://dol.guam.gov
X-WR-CALDESC:Events for Government of Guam, Department of Labor
BEGIN:VTIMEZONE
TZID:Australia/Melbourne
BEGIN:STANDARD
TZOFFSETFROM:+1100
TZOFFSETTO:+1000
TZNAME:AEST
DTSTART:20200404T160000
END:STANDARD
BEGIN:DAYLIGHT
TZOFFSETFROM:+1000
TZOFFSETTO:+1100
TZNAME:AEDT
DTSTART:20201003T160000
END:DAYLIGHT
END:VTIMEZONE
BEGIN:VEVENT
DTSTART;TZID=Australia/Melbourne:20201124T090000
DTEND;TZID=Australia/Melbourne:20201124T103000
DTSTAMP:20260426T043539
CREATED:20201113T032903Z
LAST-MODIFIED:20201113T033115Z
UID:5815-1606208400-1606213800@dol.guam.gov
SUMMARY:Zoom Labor Clinics for Businesses: COVID-19 Employer Resources / Returning to Work
DESCRIPTION:CLICK HERE TO REGISTER NOW\nClick here to View PDF Flyer \nTitle: COVID-19 Employer Resources / Returning to Work\nDate: Tuesday\, November 24\, 2020\nTime: 9:00am – 10:30am\nTrainer: Jesse Pangelinan\, Safety Administrator \nTarget Audience: Employers\, HR Managers\nAttendance: Limited to 30 participants\n*Zoom meeting details will be provided upon registration confirmation \nCost: No Cost \nWorkshop Content: Learn more about the resources available from OSHA regarding employer
URL:https://dol.guam.gov/event/zoom-labor-clinics-for-businesses-covid-19-employer-resources-returning-to-work/
CATEGORIES:Department of Labor Clinics
END:VEVENT
END:VCALENDAR