BEGIN:VCALENDAR
VERSION:2.0
PRODID:-//Government of Guam, Department of Labor - ECPv5.16.2.1//NONSGML v1.0//EN
CALSCALE:GREGORIAN
METHOD:PUBLISH
X-WR-CALNAME:Government of Guam, Department of Labor
X-ORIGINAL-URL:https://dol.guam.gov
X-WR-CALDESC:Events for Government of Guam, Department of Labor
BEGIN:VTIMEZONE
TZID:Australia/Melbourne
BEGIN:STANDARD
TZOFFSETFROM:+1100
TZOFFSETTO:+1000
TZNAME:AEST
DTSTART:20200404T160000
END:STANDARD
BEGIN:DAYLIGHT
TZOFFSETFROM:+1000
TZOFFSETTO:+1100
TZNAME:AEDT
DTSTART:20201003T160000
END:DAYLIGHT
END:VTIMEZONE
BEGIN:VEVENT
DTSTART;TZID=Australia/Melbourne:20201117T090000
DTEND;TZID=Australia/Melbourne:20201117T103000
DTSTAMP:20260426T130936
CREATED:20201109T063042Z
LAST-MODIFIED:20201109T063042Z
UID:5800-1605603600-1605609000@dol.guam.gov
SUMMARY:Zoom Labor Clinics for Businesses: OSHA Reporting and Recordkeeping Requirements/OSHA Top 10
DESCRIPTION:CLICK HERE TO REGISTER NOW\nClick here to View PDF Flyer \nTitle: OSHA Reporting and Recordkeeping Requirements/OSHA Top 10\nDate: Tuesday\, November 17\, 2020\nTime: 9:00am – 10:30am\nTrainer: Jesse Pangelinan\, Safety Administrator \nTarget Audience: Employers\, HR Managers\nAttendance: Limited to 20 participants\n*Zoom meeting details will be provided upon registration confirmation \nCost: No Cost\nWorkshop Content: This webinar will be discussing the reporting and recording requirements with OSHA. There are many inconsistencies and misunderstandings seen in OSHA 300 reports\, many of which should not be included. Attend and see what is and not to be included.
URL:https://dol.guam.gov/event/zoom-labor-clinics-for-businesses-osha-reporting-and-recordkeeping-requirements-osha-top-10/
CATEGORIES:Department of Labor Clinics
END:VEVENT
END:VCALENDAR