BEGIN:VCALENDAR
VERSION:2.0
PRODID:-//Government of Guam, Department of Labor - ECPv5.16.2.1//NONSGML v1.0//EN
CALSCALE:GREGORIAN
METHOD:PUBLISH
X-WR-CALNAME:Government of Guam, Department of Labor
X-ORIGINAL-URL:https://dol.guam.gov
X-WR-CALDESC:Events for Government of Guam, Department of Labor
BEGIN:VTIMEZONE
TZID:Australia/Melbourne
BEGIN:STANDARD
TZOFFSETFROM:+1100
TZOFFSETTO:+1000
TZNAME:AEST
DTSTART:20190406T160000
END:STANDARD
BEGIN:DAYLIGHT
TZOFFSETFROM:+1000
TZOFFSETTO:+1100
TZNAME:AEDT
DTSTART:20191005T160000
END:DAYLIGHT
END:VTIMEZONE
BEGIN:VEVENT
DTSTART;TZID=Australia/Melbourne:20191031T090000
DTEND;TZID=Australia/Melbourne:20191031T113000
DTSTAMP:20260421T222233
CREATED:20191007T011243Z
LAST-MODIFIED:20191007T011616Z
UID:4902-1572512400-1572521400@dol.guam.gov
SUMMARY:Labor Clinic for Businesses: Fall Protection Safety Awareness
DESCRIPTION:CLICK HERE TO REGISTER NOW\nClick to View PDF Flyer \nTitle: Labor Clinic for Businesses: Fall Protection Safety Awareness \nDate: October 31\, 2019\nTime: 9:00am – 11:30am \nTrainer: Jesse Pangelinan\, OSHA On Site Consultation Program Manager \nLocation: 710 West Marine Corps Drive-Suite 301 Bell Tower Plaza\nHagatna\, Guam 96910 \nTarget Audience: Business Representatives / Employers and Human Resource Staff\nSeating: Limited to 30 \nCost: No Cost \nWorkshop Content: As we are approaching better exterior working weather\, painting and general construction work will be on the rise. Keep safe by understanding the Duty to Have Fall Protection. Understanding and planning are key to performing work at heights\, safely.
URL:https://dol.guam.gov/event/labor-clinic-for-businesses-fall-protection-safety-awareness/
LOCATION:American Job Center (AJC) Conference Room\, 710 West Marine Corps Dr\, Bell Tower Plaza\, Hagatna\, Guam
CATEGORIES:Department of Labor Clinics
END:VEVENT
END:VCALENDAR