BEGIN:VCALENDAR
VERSION:2.0
PRODID:-//Government of Guam, Department of Labor - ECPv5.16.2.1//NONSGML v1.0//EN
CALSCALE:GREGORIAN
METHOD:PUBLISH
X-WR-CALNAME:Government of Guam, Department of Labor
X-ORIGINAL-URL:https://dol.guam.gov
X-WR-CALDESC:Events for Government of Guam, Department of Labor
BEGIN:VTIMEZONE
TZID:Australia/Melbourne
BEGIN:STANDARD
TZOFFSETFROM:+1100
TZOFFSETTO:+1000
TZNAME:AEST
DTSTART:20190406T160000
END:STANDARD
BEGIN:DAYLIGHT
TZOFFSETFROM:+1000
TZOFFSETTO:+1100
TZNAME:AEDT
DTSTART:20191005T160000
END:DAYLIGHT
END:VTIMEZONE
BEGIN:VEVENT
DTSTART;TZID=Australia/Melbourne:20190919T090000
DTEND;TZID=Australia/Melbourne:20190919T120000
DTSTAMP:20260422T163846
CREATED:20190122T032622Z
LAST-MODIFIED:20190122T032622Z
UID:4041-1568883600-1568894400@dol.guam.gov
SUMMARY:Labor Clinic for Businesses: Fair Employment Practices/EEO
DESCRIPTION:CLICK HERE TO REGISTER NOW\nClick here to view PDF Flyer \nTitle: Labor Clinic for Businesses: Fair Employment Practices/EEO\nDate: Thursday\, September 19\, 2019\nTime: 9:00am – 12:00pm\nTrainer: Jeffrey Sablan\, Fair Employment Practice Officer\nLocation: 710 West Marine Corps Drive-Suite 301 Bell Tower Plaza\nHagatna\, Guam 96910 \nTarget Audience: Business Representatives / Employers and Human Resource Staff \nSeating: Limited to 30 \nCost: No Cost\nWorkshop Content:Provides public policy of the territorial Government of Guam on the protection and safeguard the civil rights of all individuals to seek\, have access to\, obtain and hold employment without discrimination because of race\, religious creed\, color\, national origin\, ancestry\, physical handicap\, medical condition\, marital status\, sex and/or age. Learn about employers best practices: on treating all individuals equally\, evaluating each individual only on the basis of bona fide occupation qualification\, and compliance provisions for ensuring fair employment practices in the workplace. \nContact Information:\nBusiness Services Representative\nEmail: bsr@nulldol.guam.gov or call: 671-475-7044
URL:https://dol.guam.gov/event/labor-clinic-for-businesses-fair-employment-practiceseeo-2/
LOCATION:American Job Center (AJC) Conference Room\, 710 West Marine Corps Dr\, Bell Tower Plaza\, Hagatna\, Guam
CATEGORIES:Department of Labor Clinics
END:VEVENT
END:VCALENDAR