BEGIN:VCALENDAR
VERSION:2.0
PRODID:-//Government of Guam, Department of Labor - ECPv5.16.2.1//NONSGML v1.0//EN
CALSCALE:GREGORIAN
METHOD:PUBLISH
X-WR-CALNAME:Government of Guam, Department of Labor
X-ORIGINAL-URL:https://dol.guam.gov
X-WR-CALDESC:Events for Government of Guam, Department of Labor
BEGIN:VTIMEZONE
TZID:Australia/Melbourne
BEGIN:STANDARD
TZOFFSETFROM:+1100
TZOFFSETTO:+1000
TZNAME:AEST
DTSTART:20190406T160000
END:STANDARD
BEGIN:DAYLIGHT
TZOFFSETFROM:+1000
TZOFFSETTO:+1100
TZNAME:AEDT
DTSTART:20191005T160000
END:DAYLIGHT
END:VTIMEZONE
BEGIN:VEVENT
DTSTART;TZID=Australia/Melbourne:20190918T160000
DTEND;TZID=Australia/Melbourne:20190918T160000
DTSTAMP:20260424T185140
CREATED:20190911T041534Z
LAST-MODIFIED:20190911T041953Z
UID:4843-1568822400-1568822400@dol.guam.gov
SUMMARY:Special Meeting re: the Eligible Training Provider Listing
DESCRIPTION:The Guam Workforce Development Board will be holding a Special Meeting re: the Eligible Training Provider Listing at the American Job Center Conference Room\, located at 710 West Marine Corps Drive\, Bell Tower Plaza (3rd floor) in Anigua. \nFor individuals requiring special accommodations\, please contact Hannah Cho Iriarte at 300-4600/475-7044 or email hannah.iriarte@nulldol.guam.gov
URL:https://dol.guam.gov/event/special-meeting-re-the-eligible-training-provider-listing/
LOCATION:American Job Center (AJC) Conference Room\, 710 West Marine Corps Dr\, Bell Tower Plaza\, Hagatna\, Guam
END:VEVENT
END:VCALENDAR