BEGIN:VCALENDAR
VERSION:2.0
PRODID:-//Government of Guam, Department of Labor - ECPv5.16.2.1//NONSGML v1.0//EN
CALSCALE:GREGORIAN
METHOD:PUBLISH
X-WR-CALNAME:Government of Guam, Department of Labor
X-ORIGINAL-URL:https://dol.guam.gov
X-WR-CALDESC:Events for Government of Guam, Department of Labor
BEGIN:VTIMEZONE
TZID:Australia/Melbourne
BEGIN:STANDARD
TZOFFSETFROM:+1100
TZOFFSETTO:+1000
TZNAME:AEST
DTSTART:20190406T160000
END:STANDARD
BEGIN:DAYLIGHT
TZOFFSETFROM:+1000
TZOFFSETTO:+1100
TZNAME:AEDT
DTSTART:20191005T160000
END:DAYLIGHT
END:VTIMEZONE
BEGIN:VEVENT
DTSTART;TZID=Australia/Melbourne:20190917T090000
DTEND;TZID=Australia/Melbourne:20190917T110000
DTSTAMP:20260424T201815
CREATED:20190808T062009Z
LAST-MODIFIED:20190808T062009Z
UID:4765-1568710800-1568718000@dol.guam.gov
SUMMARY:Labor Clinic for Businesses: OSHA On Site Consultation: Scissor\, Telescoping\, Articulating\, Aerial Lifts
DESCRIPTION:CLICK HERE TO REGISTER NOW\nClick here to View PDF Flyer \nTitle: Labor Clinic for Businesses: OSHA On Site Consultation: Scissor\, Telescoping\, Articulating\, Aerial Lifts\nDate: Sept. 17\, 2019\nTime: 9:00am – 11:00am\nTrainer: Jesse Pangelinan\, On Site Consultation Program Manager \nLocation: American Job Center\, Ste 310\, 3rd Floor Conference Room\n710 W. Marine Corps Drive (Across 76 Circle K)\nHagatna\, Guam 96910 \nTarget Audience: Business Representatives / Employers and Human Resource Staff\nSeating: Limited to 30 \nCost: No Cost\nWorkshop Content: The clinic is intended as a resource for providing training on OSHA’s standards regsarding aerial lift devices. \nContact Information: Business Services Representative\nEmail: bsr@nulldol.guam.gov or call: 671-300-4588
URL:https://dol.guam.gov/event/labor-clinic-for-businesses-osha-on-site-consultation-scissor-telescoping-articulating-aerial-lifts/
LOCATION:American Job Center (AJC) Conference Room\, 710 West Marine Corps Dr\, Bell Tower Plaza\, Hagatna\, Guam
CATEGORIES:Department of Labor Clinics
END:VEVENT
END:VCALENDAR