BEGIN:VCALENDAR
VERSION:2.0
PRODID:-//Government of Guam, Department of Labor - ECPv3.12.5//NONSGML v1.0//EN
CALSCALE:GREGORIAN
METHOD:PUBLISH
X-WR-CALNAME:Government of Guam, Department of Labor
X-ORIGINAL-URL:https://dol.guam.gov
X-WR-CALDESC:Events for Government of Guam, Department of Labor
BEGIN:VEVENT
DTSTART:20181216T223000Z
DTEND:20181216T223000Z
DTSTAMP:20210812T023947Z
CREATED:20180119T052555Z
LAST-MODIFIED:20180119T052555Z
UID:3168-1544999400-1544999400@dol.guam.gov
SUMMARY:AJC Orientation
DESCRIPTION:AJC Orientation: An overview of services offered at the American Job Center (AJC). This is the first step to support services for employment and training opportunities.\n\nContact 475-7000 or 475-7001 to schedule an appointment to attend orientation.
URL:https://dol.guam.gov/event/ajc-orientation-284/
LOCATION:710 West Marine Corps Dr\, Bell Tower Plaza\, Hagatna\, Guam
CATEGORIES:American Job Center
END:VEVENT
END:VCALENDAR