BEGIN:VCALENDAR
VERSION:2.0
PRODID:-//Government of Guam, Department of Labor - ECPv5.16.2.1//NONSGML v1.0//EN
CALSCALE:GREGORIAN
METHOD:PUBLISH
X-WR-CALNAME:Government of Guam, Department of Labor
X-ORIGINAL-URL:https://dol.guam.gov
X-WR-CALDESC:Events for Government of Guam, Department of Labor
BEGIN:VTIMEZONE
TZID:Australia/Melbourne
BEGIN:STANDARD
TZOFFSETFROM:+1100
TZOFFSETTO:+1000
TZNAME:AEST
DTSTART:20180331T160000
END:STANDARD
BEGIN:DAYLIGHT
TZOFFSETFROM:+1000
TZOFFSETTO:+1100
TZNAME:AEDT
DTSTART:20181006T160000
END:DAYLIGHT
END:VTIMEZONE
BEGIN:VEVENT
DTSTART;TZID=Australia/Melbourne:20181214T083000
DTEND;TZID=Australia/Melbourne:20181214T083000
DTSTAMP:20260425T074408
CREATED:20180119T052512Z
LAST-MODIFIED:20180119T052512Z
UID:3167-1544776200-1544776200@dol.guam.gov
SUMMARY:AJC Orientation
DESCRIPTION:AJC Orientation: An overview of services offered at the American Job Center (AJC). This is the first step to support services for employment and training opportunities. \nContact 475-7000 or 475-7001 to schedule an appointment to attend orientation.
URL:https://dol.guam.gov/event/ajc-orientation-283/
LOCATION:American Job Center (AJC) Conference Room\, 710 West Marine Corps Dr\, Bell Tower Plaza\, Hagatna\, Guam
CATEGORIES:American Job Center
END:VEVENT
BEGIN:VEVENT
DTSTART;TZID=Australia/Melbourne:20181214T100000
DTEND;TZID=Australia/Melbourne:20181214T220000
DTSTAMP:20260425T074408
CREATED:20181210T231648Z
LAST-MODIFIED:20181211T005238Z
UID:3951-1544781600-1544824800@dol.guam.gov
SUMMARY:Notice of Public Hearing - GRAP
DESCRIPTION:Notice of Public Hearing – GRAP\nThe Guam Department of Labor (GDOL) is seeking public input on the update of the Guam Registered Apprenticeship Program Demand Occupations Listing. \nThe public hearing will be held in the GDOL AJC conference room\, 3rd floor\, Bell Tower building in Anigua. The public is invited to attend and provide testimony on which areas need additional professional and skilled technical trade workers. Written testimony may also be sent via email to apprenticeship@nulldol.guam.gov or by fax to 475-6811 through 5:00 p.m.\, December 14\, 2018. \nCopies of the prior year’s approved Guam Registered Apprentice Program Demand Occupations Listing are on file and available for examination at the Guam Department of Labor Director’s office located on the 4th floor of the GCIC Building in Hagatna. \nFor more information please contact GDOL at 300-4572. Requests for reasonable accommodations must be made at least 72 hours in advance.
URL:https://dol.guam.gov/event/notice-of-public-hearing-grap/
LOCATION:American Job Center (AJC) Conference Room\, 710 West Marine Corps Dr\, Bell Tower Plaza\, Hagatna\, Guam
CATEGORIES:Guam Department of Labor
END:VEVENT
END:VCALENDAR