BEGIN:VCALENDAR
VERSION:2.0
PRODID:-//Government of Guam, Department of Labor - ECPv3.12.5//NONSGML v1.0//EN
CALSCALE:GREGORIAN
METHOD:PUBLISH
X-WR-CALNAME:Government of Guam, Department of Labor
X-ORIGINAL-URL:https://dol.guam.gov
X-WR-CALDESC:Events for Government of Guam, Department of Labor
BEGIN:VEVENT
DTSTART:20181202T223000Z
DTEND:20181202T223000Z
DTSTAMP:20210812T023820Z
CREATED:20180119T052233Z
LAST-MODIFIED:20180119T052233Z
UID:3163-1543789800-1543789800@dol.guam.gov
SUMMARY:AJC Orientation
DESCRIPTION:AJC Orientation: An overview of services offered at the American Job Center (AJC). This is the first step to support services for employment and training opportunities.\n\nContact 475-7000 or 475-7001 to schedule an appointment to attend orientation.
URL:https://dol.guam.gov/event/ajc-orientation-279/
LOCATION:710 West Marine Corps Dr\, Bell Tower Plaza\, Hagatna\, Guam
CATEGORIES:American Job Center
END:VEVENT
BEGIN:VEVENT
DTSTART:20181203T000000Z
DTEND:20181203T000000Z
DTSTAMP:20210812T023820Z
CREATED:20181128T033957Z
LAST-MODIFIED:20181128T040301Z
UID:3947-1543795200-1543795200@dol.guam.gov
SUMMARY:AJC Speaker Series - Kamana Mathur
DESCRIPTION:\n\nThe American Job Center along with the GDOL is pleased to announce a newly implemented Speaker Series focused on business-centric topics\, jobs\, government policies\, and other issues pertaining to the economy.\n\nWe are also pleased to have Ms. Kamana Mathur from District 26 of the United States Citizenship and Immigration Services (USCIS) as our first featured speaker of the series. District 26 includes Guam\, CNMI\, and Hawaii. Ms. Kamana will provide an immigration documents overview\, discuss the proper completion and retention of Form I-9\, and explain the process for getting EAD Cards.\n\nWe highly encourage the public to take advantage of this cost-free event. However\, seats are limited! Therefore\, interested participants must submit their reservations at bsr@dol.guam.gov no later than Thursday\, November 29\, 2018. For inquiries\, please contact our office at bsr@dol.guam.gov or call 671-475-7044 for more details.
URL:https://dol.guam.gov/event/ajc-speaker-series-kamana-mathur/
LOCATION:710 West Marine Corps Dr\, Bell Tower Plaza\, Hagatna\, Guam
CATEGORIES:American Job Center
END:VEVENT
END:VCALENDAR