BEGIN:VCALENDAR
VERSION:2.0
PRODID:-//Government of Guam, Department of Labor - ECPv3.12.5//NONSGML v1.0//EN
CALSCALE:GREGORIAN
METHOD:PUBLISH
X-WR-CALNAME:Government of Guam, Department of Labor
X-ORIGINAL-URL:https://dol.guam.gov
X-WR-CALDESC:Events for Government of Guam, Department of Labor
BEGIN:VEVENT
DTSTART:20181127T223000Z
DTEND:20181127T223000Z
DTSTAMP:20210812T023722Z
CREATED:20180119T052023Z
LAST-MODIFIED:20180119T052023Z
UID:3161-1543357800-1543357800@dol.guam.gov
SUMMARY:AJC Orientation
DESCRIPTION:AJC Orientation: An overview of services offered at the American Job Center (AJC). This is the first step to support services for employment and training opportunities.\n\nContact 475-7000 or 475-7001 to schedule an appointment to attend orientation.
URL:https://dol.guam.gov/event/ajc-orientation-277/
LOCATION:710 West Marine Corps Dr\, Bell Tower Plaza\, Hagatna\, Guam
CATEGORIES:American Job Center
END:VEVENT
BEGIN:VEVENT
DTSTART:20181128T060000Z
DTEND:20181128T060000Z
DTSTAMP:20210812T023722Z
CREATED:20180831T061028Z
LAST-MODIFIED:20180831T061028Z
UID:3861-1543384800-1543384800@dol.guam.gov
SUMMARY:GWDB General Membership Meeting
DESCRIPTION:The Guam Workforce Development Board's General Membership Meeting will be held at the American Job Center Conference Room\, located at 710 West Marine Corps Drive\, Bell Tower Plaza (3rd floor) in Anigua.\n\nIndividuals requiring special accommodations or for additional information\, please contact Joleen Santos or Marie Martir at 475-7044/36 or email joleen.santos@dol.guam.gov
URL:https://dol.guam.gov/event/gwdb-general-membership-meeting-8/
LOCATION:710 West Marine Corps Dr\, Bell Tower Plaza\, Hagatna\, Guam
CATEGORIES:GWDB
END:VEVENT
END:VCALENDAR