BEGIN:VCALENDAR
VERSION:2.0
PRODID:-//Government of Guam, Department of Labor - ECPv5.16.2.1//NONSGML v1.0//EN
CALSCALE:GREGORIAN
METHOD:PUBLISH
X-WR-CALNAME:Government of Guam, Department of Labor
X-ORIGINAL-URL:https://dol.guam.gov
X-WR-CALDESC:Events for Government of Guam, Department of Labor
BEGIN:VTIMEZONE
TZID:Australia/Melbourne
BEGIN:STANDARD
TZOFFSETFROM:+1100
TZOFFSETTO:+1000
TZNAME:AEST
DTSTART:20170401T160000
END:STANDARD
BEGIN:DAYLIGHT
TZOFFSETFROM:+1000
TZOFFSETTO:+1100
TZNAME:AEDT
DTSTART:20170930T160000
END:DAYLIGHT
END:VTIMEZONE
BEGIN:VEVENT
DTSTART;TZID=Australia/Melbourne:20170907T090000
DTEND;TZID=Australia/Melbourne:20170907T110000
DTSTAMP:20260422T045022
CREATED:20170512T050324Z
LAST-MODIFIED:20170512T050324Z
UID:2421-1504774800-1504782000@dol.guam.gov
SUMMARY:Labor Clinic for Job Seekers: Veteran’s Employment Programs
DESCRIPTION:CLICK HERE TO REGISTER NOW\nLabor Clinic for Job Seekers: Veteran’s Employment Programs\nDate: Thursday\, September 07\, 2017\nTime: 9:00am to 11:00am\nLocation American Job Center\, Guam 3rd Floor Conference Room 710 West Marine Corps Drive\, Suite 301 Bell Tower Plaza\, Hagatna\, Guam 96910\nSeating: Limited to 30\nCost: No Cost \nPresenter: Arnold Marcus; DVOP Specialist\nTarget Audience: Job Seekers who are Veterans \nWorkshop Content: One session that brings all veteran employment program opportunities together\, learn what’s available\, and how to make it work for the veteran\, including accessing priority placements. \nContact Information:\nAttn: Business Services Representative\nEmail: bsr@nulldol.guam.gov or call: 671-300-4604
URL:https://dol.guam.gov/event/labor-clinic-for-job-seekers-veterans-employment-programs-3/
LOCATION:American Job Center (AJC) Conference Room\, 710 West Marine Corps Dr\, Bell Tower Plaza\, Hagatna\, Guam
CATEGORIES:Department of Labor Clinics
END:VEVENT
END:VCALENDAR