BEGIN:VCALENDAR
VERSION:2.0
PRODID:-//Government of Guam, Department of Labor - ECPv5.16.2.1//NONSGML v1.0//EN
CALSCALE:GREGORIAN
METHOD:PUBLISH
X-WR-CALNAME:Government of Guam, Department of Labor
X-ORIGINAL-URL:https://dol.guam.gov
X-WR-CALDESC:Events for Government of Guam, Department of Labor
BEGIN:VTIMEZONE
TZID:Australia/Melbourne
BEGIN:STANDARD
TZOFFSETFROM:+1100
TZOFFSETTO:+1000
TZNAME:AEST
DTSTART:20170401T160000
END:STANDARD
BEGIN:DAYLIGHT
TZOFFSETFROM:+1000
TZOFFSETTO:+1100
TZNAME:AEDT
DTSTART:20170930T160000
END:DAYLIGHT
END:VTIMEZONE
BEGIN:VEVENT
DTSTART;TZID=Australia/Melbourne:20170921T090000
DTEND;TZID=Australia/Melbourne:20170921T110000
DTSTAMP:20260421T235809
CREATED:20170512T052749Z
LAST-MODIFIED:20170512T052749Z
UID:2430-1505984400-1505991600@dol.guam.gov
SUMMARY:Labor Clinic for Job Seekers: Navigating HireGuam.com
DESCRIPTION:CLICK HERE TO REGISTER NOW\n  \nLabor Clinic for Job Seekers: Navigating HireGuam.com\nDate: Thursday\, September 21\, 2017\nTime: 9:00am to 11:00am\nLocation American Job Center\, Guam 3rd Floor Conference Room 710 West Marine Corps Drive\, Suite 301 Bell Tower Plaza\, Hagatna\, Guam 96910\nSeating: Limited to 30\nCost: No Cost \nPresenter: Theresa Camacho\, Employment Development Worker III\nTarget Audience: Business Representatives / Employers and Human Resource Staff/ Entrepreneur / Job Seekers \nWorkshop Content: Learn to navigate HireGuam.com’s powerful online job seeker/workforce services system\, accessed as a website on the Internet or at the American Job Center\, Guam. This system is designed to be comfortable for everyone\, even the person who has little computer experience. The system provides fast access to a complete set of employment tools in one web site. Surveys have proven that users find it convenient and very useful. Use your mouse to point and click your way through the online services. Features to help job seekers and students include:\n• Use a professional format to create and send resumes and cover letters to employers\n• Assess your job skills\, set goals\, and research training providers\n• Review available jobs and apply online\n• Set up a Virtual Recruiter® search agent to automatically review job postings and notify you of jobs that match your skills\n• Track your job search efforts and resumes sent in a personal profile folder online\n• Learn about services and benefits for which you may be eligible\n• Determine a budget and plan for training\n• Research regional labor market information\, such as salaries\n• Use the email/message center to contact employers and your case manager \nContact Information:\nAttn: Business Services Representative\nEmail: bsr@nulldol.guam.gov or call: 671-300-7044
URL:https://dol.guam.gov/event/labor-clinic-for-job-seekers-navigating-hireguam-com-7/
LOCATION:American Job Center (AJC) Conference Room\, 710 West Marine Corps Dr\, Bell Tower Plaza\, Hagatna\, Guam
CATEGORIES:Department of Labor Clinics
END:VEVENT
END:VCALENDAR