BEGIN:VCALENDAR
VERSION:2.0
PRODID:-//Government of Guam, Department of Labor - ECPv5.16.2.1//NONSGML v1.0//EN
CALSCALE:GREGORIAN
METHOD:PUBLISH
X-WR-CALNAME:Government of Guam, Department of Labor
X-ORIGINAL-URL:https://dol.guam.gov
X-WR-CALDESC:Events for Government of Guam, Department of Labor
BEGIN:VTIMEZONE
TZID:Australia/Melbourne
BEGIN:STANDARD
TZOFFSETFROM:+1100
TZOFFSETTO:+1000
TZNAME:AEST
DTSTART:20170401T160000
END:STANDARD
BEGIN:DAYLIGHT
TZOFFSETFROM:+1000
TZOFFSETTO:+1100
TZNAME:AEDT
DTSTART:20170930T160000
END:DAYLIGHT
END:VTIMEZONE
BEGIN:VEVENT
DTSTART;TZID=Australia/Melbourne:20171121T090000
DTEND;TZID=Australia/Melbourne:20171121T110000
DTSTAMP:20260422T000334
CREATED:20170515T001537Z
LAST-MODIFIED:20170515T001537Z
UID:2452-1511254800-1511262000@dol.guam.gov
SUMMARY:Labor Clinic for Job Seekers: Job Corps: Alternatives for Youth
DESCRIPTION:CLICK HERE TO REGISTER NOW\nLabor Clinic for Job Seekers: Job Corps: Alternatives for Youth\nDate: Tuesday\, November 21\, 2017\nTime: 9:00am to 11:0am\nLocation American Job Center\, Guam 3rd Floor Conference Room 710 West Marine Corps Drive\, Suite 301 Bell Tower Plaza\, Hagatna\, Guam 96910\nSeating: Limited to 40\nCost: No Cost \nPresenter: Phyllis Topasna; Program Coordinator II\nTarget Audience: Business Representatives / Employers and Human Resource Staff/ Entrepreneur \nWorkshop Content: Are you an out of school at-risk youth\, between ages 16 through 24\, then you have an opportunity to participate in Job Corps the nation’s largest and most comprehensive residential education and job training program. Job Corps combines classroom\, practical\, and work-based learning experiences to prepare youth for stable\, long-term\, high-paying jobs. Job Corps program has training center for Guam participants in Maui and Oahu islands of Hawaii. The costs for participating in this program are provided by the Department of Labor’s Office of the Secretary for eligible youth. \nContact Information:\nAttn: Business Services Representative\nEmail: bsr@nulldol.guam.gov or call: 671-300-7044
URL:https://dol.guam.gov/event/labor-clinic-for-job-seekers-job-corps-alternatives-for-youth-2/
LOCATION:American Job Center (AJC) Conference Room\, 710 West Marine Corps Dr\, Bell Tower Plaza\, Hagatna\, Guam
CATEGORIES:Department of Labor Clinics
END:VEVENT
END:VCALENDAR