BEGIN:VCALENDAR
VERSION:2.0
PRODID:-//Government of Guam, Department of Labor - ECPv5.16.2.1//NONSGML v1.0//EN
CALSCALE:GREGORIAN
METHOD:PUBLISH
X-WR-CALNAME:Government of Guam, Department of Labor
X-ORIGINAL-URL:https://dol.guam.gov
X-WR-CALDESC:Events for Government of Guam, Department of Labor
BEGIN:VTIMEZONE
TZID:Australia/Melbourne
BEGIN:STANDARD
TZOFFSETFROM:+1100
TZOFFSETTO:+1000
TZNAME:AEST
DTSTART:20170401T160000
END:STANDARD
BEGIN:DAYLIGHT
TZOFFSETFROM:+1000
TZOFFSETTO:+1100
TZNAME:AEDT
DTSTART:20170930T160000
END:DAYLIGHT
END:VTIMEZONE
BEGIN:VEVENT
DTSTART;TZID=Australia/Melbourne:20170314T090000
DTEND;TZID=Australia/Melbourne:20170314T110000
DTSTAMP:20260422T204130
CREATED:20170323T021625Z
LAST-MODIFIED:20170323T021625Z
UID:2037-1489482000-1489489200@dol.guam.gov
SUMMARY:Labor Clinic for Job Seekers: Conducting an Effect Job Search on Guam
DESCRIPTION:CLICK HERE TO REGISTER NOW\nLabor Clinic for Job Seekers: Conducting an Effect Job Search on Guam\nDate: Tuesday\, March 14\, 2017\nTime: 9:00am to 11:0am\nTrainer: Richard Taitague\nLocation: American Job Center\, Guam 3rd Floor Conference Room 710 West Marine Corps Drive\, Suite 301 Bell Tower Plaza\, Hagatna\, Guam 96910 \nTarget Audience: Business Representatives / Employers and Human Resource Staff\nSeating: Limited to 40\nCost: No Cost\nWorkshop Content: Discover resources that connect you with meaningful job postings. Learn how to make the best of your search and identify positions that are responsive \nContact Information:\nAttn: Kamalin Meno\nEmail: bsr@nulldol.guam.gov or call: 671-300-4604
URL:https://dol.guam.gov/event/labor-clinic-for-job-seekers-conducting-an-effect-job-search-on-guam/
LOCATION:American Job Center (AJC) Conference Room\, 710 West Marine Corps Dr\, Bell Tower Plaza\, Hagatna\, Guam
CATEGORIES:Department of Labor Clinics
END:VEVENT
END:VCALENDAR