BEGIN:VCALENDAR
VERSION:2.0
PRODID:-//Government of Guam, Department of Labor - ECPv5.16.2.1//NONSGML v1.0//EN
CALSCALE:GREGORIAN
METHOD:PUBLISH
X-WR-CALNAME:Government of Guam, Department of Labor
X-ORIGINAL-URL:https://dol.guam.gov
X-WR-CALDESC:Events for Government of Guam, Department of Labor
BEGIN:VTIMEZONE
TZID:Australia/Melbourne
BEGIN:STANDARD
TZOFFSETFROM:+1100
TZOFFSETTO:+1000
TZNAME:AEST
DTSTART:20170401T160000
END:STANDARD
BEGIN:DAYLIGHT
TZOFFSETFROM:+1000
TZOFFSETTO:+1100
TZNAME:AEDT
DTSTART:20170930T160000
END:DAYLIGHT
END:VTIMEZONE
BEGIN:VEVENT
DTSTART;TZID=Australia/Melbourne:20170420T080000
DTEND;TZID=Australia/Melbourne:20170420T110000
DTSTAMP:20260422T155059
CREATED:20170323T033855Z
LAST-MODIFIED:20170323T033855Z
UID:2057-1492675200-1492686000@dol.guam.gov
SUMMARY:Labor Clinic for Businesses: Understanding Workers Compensation Provisions
DESCRIPTION:CLICK HERE TO REGISTER NOW\nLabor Clinic for Businesses: Understanding Workers Compensation Provisions\nDate: Thursday\, April 20\, 2017\nTime: 9:00am to 11:0am\nTrainer: Joannalynn Fullerton\nLocation: American Job Center\, Guam 3rd Floor Conference Room 710 West Marine Corps Drive\, Suite 301 Bell Tower Plaza\, Hagatna\, Guam 96910 \nTarget Audience: Business Representatives / Employers and Human Resource Staff\nSeating: Limited to 40\nCost: No Cost\nWorkshop Content: Learn about the Worker’s Compensation Program’s (WCC) role as: ombudsman for public and private sector employees who have been injured on the job\, and in ensuring prompt and accurate benefit payments and appropriate service to injured employee in order to facilitate their return to gainful employment. Review of reporting procedures and forms used for filing claims. \nContact Information:\nAttn: Kamalin Meno\nEmail: bsr@nulldol.guam.gov or call: 671-300-4604
URL:https://dol.guam.gov/event/labor-clinic-for-businesses-understanding-workers-compensation-provisions/
LOCATION:American Job Center (AJC) Conference Room\, 710 West Marine Corps Dr\, Bell Tower Plaza\, Hagatna\, Guam
CATEGORIES:Department of Labor Clinics
END:VEVENT
END:VCALENDAR