BEGIN:VCALENDAR
VERSION:2.0
PRODID:-//Government of Guam, Department of Labor - ECPv5.16.2.1//NONSGML v1.0//EN
CALSCALE:GREGORIAN
METHOD:PUBLISH
X-WR-CALNAME:Government of Guam, Department of Labor
X-ORIGINAL-URL:https://dol.guam.gov
X-WR-CALDESC:Events for Government of Guam, Department of Labor
BEGIN:VTIMEZONE
TZID:Australia/Melbourne
BEGIN:STANDARD
TZOFFSETFROM:+1100
TZOFFSETTO:+1000
TZNAME:AEST
DTSTART:20170401T160000
END:STANDARD
BEGIN:DAYLIGHT
TZOFFSETFROM:+1000
TZOFFSETTO:+1100
TZNAME:AEDT
DTSTART:20170930T160000
END:DAYLIGHT
END:VTIMEZONE
BEGIN:VEVENT
DTSTART;TZID=Australia/Melbourne:20170504T090000
DTEND;TZID=Australia/Melbourne:20170504T230000
DTSTAMP:20260422T155404
CREATED:20170323T034822Z
LAST-MODIFIED:20170323T034822Z
UID:2063-1493888400-1493938800@dol.guam.gov
SUMMARY:Labor Clinic for Businesses: Small Business Opportunities
DESCRIPTION:CLICK HERE TO REGISTER NOW\nLabor Clinic for Businesses: Small Business Opportunities\nDate: Thursday\, May 04\, 2017\nTime: 9:00am to 11:0am\nTrainer: Josette (Gigi) Mueller\nLocation: American Job Center\, Guam 3rd Floor Conference Room 710 West Marine Corps Drive\, Suite 301 Bell Tower Plaza\, Hagatna\, Guam 96910 \nTarget Audience: Business Representatives / Employers and Human Resource Staff\nSeating: Limited to 40\nCost: No Cost\nWorkshop Content: The Small Business Administration (SBA) provides a number of financial assistance programs for small businesses that have been specifically designed to meet key financing needs\, including debt financing\, surety bonds\, and equity financing. Learn what SBA offers to help small businesses grow. Gain an understanding of the various programs and the qualifications for each are specific. SBA can help facilitate a loan for you with a third party lender\, guarantee a bond\, or help you find venture capital. Attendees will gain an understanding how SBA works and the first step towards receiving assistance. \nContact Information:\nAttn: Kamalin Meno\nEmail: bsr@nulldol.guam.gov or call: 671-300-4604
URL:https://dol.guam.gov/event/labor-clinic-for-businesses-small-business-opportunities/
LOCATION:American Job Center (AJC) Conference Room\, 710 West Marine Corps Dr\, Bell Tower Plaza\, Hagatna\, Guam
CATEGORIES:Department of Labor Clinics
END:VEVENT
END:VCALENDAR