BEGIN:VCALENDAR
VERSION:2.0
PRODID:-//Government of Guam, Department of Labor - ECPv5.16.2.1//NONSGML v1.0//EN
CALSCALE:GREGORIAN
METHOD:PUBLISH
X-WR-CALNAME:Government of Guam, Department of Labor
X-ORIGINAL-URL:https://dol.guam.gov
X-WR-CALDESC:Events for Government of Guam, Department of Labor
BEGIN:VTIMEZONE
TZID:Australia/Melbourne
BEGIN:STANDARD
TZOFFSETFROM:+1100
TZOFFSETTO:+1000
TZNAME:AEST
DTSTART:20190406T160000
END:STANDARD
BEGIN:DAYLIGHT
TZOFFSETFROM:+1000
TZOFFSETTO:+1100
TZNAME:AEDT
DTSTART:20191005T160000
END:DAYLIGHT
END:VTIMEZONE
BEGIN:VEVENT
DTSTART;TZID=Australia/Melbourne:20190806T090000
DTEND;TZID=Australia/Melbourne:20190806T113000
DTSTAMP:20260426T125306
CREATED:20190712T061900Z
LAST-MODIFIED:20190712T061900Z
UID:4602-1565082000-1565091000@dol.guam.gov
SUMMARY:Labor Clinic for Businesses: Powered Industrial Trucks
DESCRIPTION:CLICK HERE TO REGISTER NOW\nClick here to View PDF Flyer \nTitle: Labor Clinic for Businesses: Powered Industrial Trucks \nDates: August 6\, 2019 \nTime: 9:00am – 11:30am \nTrainer: Jesse Pangelinan\, OSHA On-Site Consultation Program Manager \nLocation: American Job Center 3rd Floor Conference Room\n(Across 76 Anigua)\n710 West Marine Corps Drive-Suite 301 Bell Tower Plaza\nHagatna\, Guam 96910 \nTarget Audience: Business Representatives / Employers and Human Resource Staff \nSeating: Limited to 30 \nCost: No Cost\nWorkshop Content: Powered Industrial Truck Safety and Training Requirements
URL:https://dol.guam.gov/event/labor-clinic-for-businesses-powered-industrial-trucks/
LOCATION:American Job Center (AJC) Conference Room\, 710 West Marine Corps Dr\, Bell Tower Plaza\, Hagatna\, Guam
CATEGORIES:Department of Labor Clinics
END:VEVENT
END:VCALENDAR