BEGIN:VCALENDAR
VERSION:2.0
PRODID:-//Government of Guam, Department of Labor - ECPv5.16.2.1//NONSGML v1.0//EN
CALSCALE:GREGORIAN
METHOD:PUBLISH
X-WR-CALNAME:Government of Guam, Department of Labor
X-ORIGINAL-URL:https://dol.guam.gov
X-WR-CALDESC:Events for Government of Guam, Department of Labor
BEGIN:VTIMEZONE
TZID:Australia/Melbourne
BEGIN:STANDARD
TZOFFSETFROM:+1100
TZOFFSETTO:+1000
TZNAME:AEST
DTSTART:20170401T160000
END:STANDARD
BEGIN:DAYLIGHT
TZOFFSETFROM:+1000
TZOFFSETTO:+1100
TZNAME:AEDT
DTSTART:20170930T160000
END:DAYLIGHT
END:VTIMEZONE
BEGIN:VEVENT
DTSTART;TZID=Australia/Melbourne:20170307T090000
DTEND;TZID=Australia/Melbourne:20170307T110000
DTSTAMP:20260424T185338
CREATED:20170323T022147Z
LAST-MODIFIED:20170323T022147Z
UID:2039-1488877200-1488884400@dol.guam.gov
SUMMARY:Labor Clinic for Businesses: PI. 26-111 Government of Guam Service Contracts
DESCRIPTION:CLICK HERE TO REGISTER NOW\nLabor Clinic for Businesses: PI. 26-111 Government of Guam Service Contracts\nDate: Tuesday\, March 07\, 2017\nTime: 9:00am to 11:0am\nTrainer: Roman Quinata\, Wage and Hour Administrator\nLocation: American Job Center\, Guam 3rd Floor Conference Room 710 West Marine Corps Drive\, Suite 301 Bell Tower Plaza\, Hagatna\, Guam 96910 \nTarget Audience: Business Representatives / Employers and Human Resource Staff\nSeating: Limited to 40\nCost:No Cost\nWorkshop Content: Learn about the impact of Public Law 26-111 with regard to government of Guam entities engaging in contracts with private sector contractors in service and other contracts. Discussion will include the establishment of minimum and prevailing wage determinations leave requirements and benefits requirements employees of the private sector contractors and the assessment of monetary penalties. \nContact Information:\nAttn: Kamalin Meno\nEmail: bsr@nulldol.guam.gov or call: 671-300-4604
URL:https://dol.guam.gov/event/labor-clinic-for-businesses-pi-26-111-government-of-guam-service-contracts/
LOCATION:American Job Center (AJC) Conference Room\, 710 West Marine Corps Dr\, Bell Tower Plaza\, Hagatna\, Guam
CATEGORIES:Department of Labor Clinics
END:VEVENT
END:VCALENDAR