BEGIN:VCALENDAR
VERSION:2.0
PRODID:-//Government of Guam, Department of Labor - ECPv5.16.2.1//NONSGML v1.0//EN
CALSCALE:GREGORIAN
METHOD:PUBLISH
X-WR-CALNAME:Government of Guam, Department of Labor
X-ORIGINAL-URL:https://dol.guam.gov
X-WR-CALDESC:Events for Government of Guam, Department of Labor
BEGIN:VTIMEZONE
TZID:Australia/Melbourne
BEGIN:STANDARD
TZOFFSETFROM:+1100
TZOFFSETTO:+1000
TZNAME:AEST
DTSTART:20190406T160000
END:STANDARD
BEGIN:DAYLIGHT
TZOFFSETFROM:+1000
TZOFFSETTO:+1100
TZNAME:AEDT
DTSTART:20191005T160000
END:DAYLIGHT
END:VTIMEZONE
BEGIN:VEVENT
DTSTART;TZID=Australia/Melbourne:20190528T090000
DTEND;TZID=Australia/Melbourne:20190528T120000
DTSTAMP:20260425T235339
CREATED:20190430T042254Z
LAST-MODIFIED:20190517T065142Z
UID:4389-1559034000-1559044800@dol.guam.gov
SUMMARY:Labor Clinic for Businesses: OSHA On-site Consultation Fall Prevention
DESCRIPTION:  \nCLICK HERE TO REGISTER NOW\nClick here to View PDF Flyer \nTitle: Labor Clinic for Businesses: OSHA On-site Consultation Fall Prevention\nDate: Tuesday\, May 28\, 2019\nTime: 9:00am to 12:00pm\nLocation: Changed to GCIC 3rd GDOL Floor Conference Room\, Hagåtña \nSeating: Limited to 30\nCost: No Cost \nPresenter: Jesse Pangelinan\, Program Manager\, OSHA On-Site Consultation Program \nTarget Audience: Business Representatives / Employers and Human Resource Staff \nWorkshop Content: 3-hour fall prevention in construction training to workers in residential construction. Training topics will include fall prevention from ladders\, scaffolds\, and roofs. \nContact Information:\nBusiness Services Representative\nEmail: bsr@nulldol.guam.gov or call: 671-475-7044
URL:https://dol.guam.gov/event/labor-clinic-for-businesses-osha-on-site-consultation-fall-prevention/
LOCATION:GDOL Conference Room (3rd Floor)\, 414 West Soledad Ave\, GCIC Building\, Hagatna\, 96910\, Guam
CATEGORIES:Department of Labor Clinics
END:VEVENT
END:VCALENDAR