BEGIN:VCALENDAR
VERSION:2.0
PRODID:-//Government of Guam, Department of Labor - ECPv5.16.2.1//NONSGML v1.0//EN
CALSCALE:GREGORIAN
METHOD:PUBLISH
X-WR-CALNAME:Government of Guam, Department of Labor
X-ORIGINAL-URL:https://dol.guam.gov
X-WR-CALDESC:Events for Government of Guam, Department of Labor
BEGIN:VTIMEZONE
TZID:Australia/Melbourne
BEGIN:STANDARD
TZOFFSETFROM:+1100
TZOFFSETTO:+1000
TZNAME:AEST
DTSTART:20190406T160000
END:STANDARD
BEGIN:DAYLIGHT
TZOFFSETFROM:+1000
TZOFFSETTO:+1100
TZNAME:AEDT
DTSTART:20191005T160000
END:DAYLIGHT
END:VTIMEZONE
BEGIN:VEVENT
DTSTART;TZID=Australia/Melbourne:20190709T093000
DTEND;TZID=Australia/Melbourne:20190709T113000
DTSTAMP:20260425T112443
CREATED:20190624T004947Z
LAST-MODIFIED:20190624T004947Z
UID:4469-1562664600-1562671800@dol.guam.gov
SUMMARY:Labor Clinic for Businesses: Marijuana in the Workplace
DESCRIPTION:CLICK HERE TO REGISTER NOW\nClick here to view PDF Flyer \nTitle: Labor Clinic for Businesses: Marijuana in the Workplace\nDate: July 9\, 2019\nTime: 9:30am – 11:30am\nTrainer: Attorney Vince Camacho\, Camacho Calvo Law Group\, LLC \nLocation: AJC Bldg\, 3rd Floor Conference Room\n710 West Marine Corps Drive\nSte 301\, Bell Tower Plaza\nHagatna\, Guam 96910 \nTarget Audience: Business Representatives / Employers and Human Resource Staff\nSeating: Limited to 30 \nCost: No Cost\nWorkshop Content: Despite the widespread wave of marijuana legalization in the United States\, marijuana remains an illegal drug. The federal government has held firm in classifying marijuana or cannabis as a Schedule I drug. Attorney Vince Camacho\, an employment lawyer\, cautioned that even in states where recreational marijuana is legal\, the supreme courts in those states have ruled in favor of employers who terminated employees who tested positive for marijuana use. Marijuana in the workplace continues to be the subject of many discussions for both employers and employees. Join us for the first of two labor clinics conducted by Attorney Vince Camacho as he sheds some light on the matter of Marijuana in the Workplace. \nContact Information: Business Services Representative\nEmail: bsr@nulldol.guam.gov or call: 671-300-4588
URL:https://dol.guam.gov/event/labor-clinic-for-businesses-marijuana-in-the-workplace/
LOCATION:American Job Center (AJC) Conference Room\, 710 West Marine Corps Dr\, Bell Tower Plaza\, Hagatna\, Guam
CATEGORIES:Department of Labor Clinics
END:VEVENT
END:VCALENDAR