BEGIN:VCALENDAR
VERSION:2.0
PRODID:-//Government of Guam, Department of Labor - ECPv5.16.2.1//NONSGML v1.0//EN
CALSCALE:GREGORIAN
METHOD:PUBLISH
X-WR-CALNAME:Government of Guam, Department of Labor
X-ORIGINAL-URL:https://dol.guam.gov
X-WR-CALDESC:Events for Government of Guam, Department of Labor
BEGIN:VTIMEZONE
TZID:Australia/Melbourne
BEGIN:STANDARD
TZOFFSETFROM:+1100
TZOFFSETTO:+1000
TZNAME:AEST
DTSTART:20190406T160000
END:STANDARD
BEGIN:DAYLIGHT
TZOFFSETFROM:+1000
TZOFFSETTO:+1100
TZNAME:AEDT
DTSTART:20191005T160000
END:DAYLIGHT
END:VTIMEZONE
BEGIN:VEVENT
DTSTART;TZID=Australia/Melbourne:20191121T090000
DTEND;TZID=Australia/Melbourne:20191121T120000
DTSTAMP:20260422T105353
CREATED:20190122T034450Z
LAST-MODIFIED:20190122T034450Z
UID:4052-1574326800-1574337600@dol.guam.gov
SUMMARY:Labor Clinic for Businesses: Harassment in the Workplace
DESCRIPTION:CLICK HERE TO REGISTER NOW\nClick here to view PDF Flyer \nTitle: Labor Clinic for Businesses: Harassment in the Workplace\nDate: Thursday\, November 21\, 2019\nTime: 9:00am – 12:00pm\nTrainer: Jeffrey Sablan\, Fair Employment Practice Officer\nLocation: 710 West Marine Corps Drive Suite 301\nHagatna\, Guam 96910 \nTarget Audience: Business Representatives / Employers and Human Resource Staff \nSeating: Limited to 30 \nCost: No Cost\nWorkshop Content: Prevention is the best tool to eliminate harassment in the workplace. Attendees will be provided with information to take the necessary steps to prevent harassment from occurring. Reviews of best practices for providing training\, establishing an effective complaint or grievance process and taking immediate and appropriate action when an employee complains\, will be discussed. \nContact Information: Business Services Representative\nEmail: bsr@nulldol.guam.gov or call: 671-475-7044
URL:https://dol.guam.gov/event/labor-clinic-for-businesses-harassment-in-the-workplace-4/
LOCATION:American Job Center (AJC) Conference Room\, 710 West Marine Corps Dr\, Bell Tower Plaza\, Hagatna\, Guam
CATEGORIES:Department of Labor Clinics
END:VEVENT
END:VCALENDAR