BEGIN:VCALENDAR
VERSION:2.0
PRODID:-//Government of Guam, Department of Labor - ECPv5.16.2.1//NONSGML v1.0//EN
CALSCALE:GREGORIAN
METHOD:PUBLISH
X-WR-CALNAME:Government of Guam, Department of Labor
X-ORIGINAL-URL:https://dol.guam.gov
X-WR-CALDESC:Events for Government of Guam, Department of Labor
BEGIN:VTIMEZONE
TZID:Australia/Melbourne
BEGIN:STANDARD
TZOFFSETFROM:+1100
TZOFFSETTO:+1000
TZNAME:AEST
DTSTART:20180331T160000
END:STANDARD
BEGIN:DAYLIGHT
TZOFFSETFROM:+1000
TZOFFSETTO:+1100
TZNAME:AEDT
DTSTART:20181006T160000
END:DAYLIGHT
END:VTIMEZONE
BEGIN:VEVENT
DTSTART;TZID=Australia/Melbourne:20181129T090000
DTEND;TZID=Australia/Melbourne:20181129T120000
DTSTAMP:20260425T112444
CREATED:20181015T231401Z
LAST-MODIFIED:20181015T231608Z
UID:3891-1543482000-1543492800@dol.guam.gov
SUMMARY:Labor Clinic for Businesses: Harassment In The Workplace
DESCRIPTION:CLICK HERE TO REGISTER \nClick here to View PDF Flyer \nTitle: Labor Clinic for Businesses: Harassment In The Workplace\nDate: Thursday\, November 29\, 2018\nTime: 9:00am to 12:00pm\nTrainer: Jeffery Sablan\, Fair Employment Practice Officer \nLocation: American Job Center\, Guam 3rd Floor Conference Room\n710 West Marine Corps Drive\, Suite 301 Bell Tower Plaza\,\nHagatna\, Guam 96910 \nTarget Audience: Business Representatives / Employers and Human Resource Staff\nSeating: Limited to 30\nCost: No Cost \nWorkshop Content: Prevention is the best tool to eliminate harassment in the workplace. Attendees will be provided with information to take the necessary steps to prevent harassment from occurring. Reviews of best practices for providing training\, establishing an effective complaint or grievance process and taking immediate and appropriate action when an employee complains\, will be discussed. \nContact Information:\nBusiness Services Representative\nEmail: bsr@nulldol.guam.gov or call: 671-475-7044
URL:https://dol.guam.gov/event/labor-clinic-for-businesses-harassment-in-the-workplace-2/
LOCATION:American Job Center (AJC) Conference Room\, 710 West Marine Corps Dr\, Bell Tower Plaza\, Hagatna\, Guam
CATEGORIES:Department of Labor Clinics
END:VEVENT
END:VCALENDAR