BEGIN:VCALENDAR
VERSION:2.0
PRODID:-//Government of Guam, Department of Labor - ECPv5.16.2.1//NONSGML v1.0//EN
CALSCALE:GREGORIAN
METHOD:PUBLISH
X-WR-CALNAME:Government of Guam, Department of Labor
X-ORIGINAL-URL:https://dol.guam.gov
X-WR-CALDESC:Events for Government of Guam, Department of Labor
BEGIN:VTIMEZONE
TZID:Australia/Melbourne
BEGIN:STANDARD
TZOFFSETFROM:+1100
TZOFFSETTO:+1000
TZNAME:AEST
DTSTART:20220402T160000
END:STANDARD
BEGIN:DAYLIGHT
TZOFFSETFROM:+1000
TZOFFSETTO:+1100
TZNAME:AEDT
DTSTART:20221001T160000
END:DAYLIGHT
END:VTIMEZONE
BEGIN:VEVENT
DTSTART;TZID=Australia/Melbourne:20221220T090000
DTEND;TZID=Australia/Melbourne:20221220T090000
DTSTAMP:20260419T224633
CREATED:20221115T014451Z
LAST-MODIFIED:20221115T014812Z
UID:7184-1671526800-1671526800@dol.guam.gov
SUMMARY:Labor Clinic: Fire Extinguishers
DESCRIPTION:Date: 12/20/22\nTime: 9:00AM\nTitle: Fire Extinguishers \nDescription: Learn the principles of PASS\, and how and when to inspect fire extinguishers. \nAudience: General Industry \nThis training will be both in person and virtual. Please be sure to indicate your preference in your registration. \nLocation: OSHA Consulting Office Room 405 GCIC\n*A link will be provided to those who prefer to attend virtually. \nInstructor: Jesse Pangelinan Program Manager OSHA On-site Consultation \nPLEASE REGISTER HERE:\nhttps://events.eventzilla.net/e/fire-extinguishers-2138571445?preview=1667880048755
URL:https://dol.guam.gov/event/labor-clinic-fire-extinguishers/
END:VEVENT
END:VCALENDAR