BEGIN:VCALENDAR
VERSION:2.0
PRODID:-//Government of Guam, Department of Labor - ECPv5.16.2.1//NONSGML v1.0//EN
CALSCALE:GREGORIAN
METHOD:PUBLISH
X-WR-CALNAME:Government of Guam, Department of Labor
X-ORIGINAL-URL:https://dol.guam.gov
X-WR-CALDESC:Events for Government of Guam, Department of Labor
BEGIN:VTIMEZONE
TZID:Australia/Melbourne
BEGIN:STANDARD
TZOFFSETFROM:+1100
TZOFFSETTO:+1000
TZNAME:AEST
DTSTART:20150404T160000
END:STANDARD
BEGIN:DAYLIGHT
TZOFFSETFROM:+1000
TZOFFSETTO:+1100
TZNAME:AEDT
DTSTART:20151003T160000
END:DAYLIGHT
END:VTIMEZONE
BEGIN:VEVENT
DTSTART;TZID=Australia/Melbourne:20150924T160000
DTEND;TZID=Australia/Melbourne:20150924T180000
DTSTAMP:20260425T114910
CREATED:20150928T233621Z
LAST-MODIFIED:20151108T222705Z
UID:822-1443110400-1443117600@dol.guam.gov
SUMMARY:GWDB General Membership Meeting
DESCRIPTION:
URL:https://dol.guam.gov/event/gwdb-general-membership-meeting/
LOCATION:American Job Center (AJC) Conference Room\, 710 West Marine Corps Dr\, Bell Tower Plaza\, Hagatna\, Guam
CATEGORIES:GWDB
END:VEVENT
END:VCALENDAR