BEGIN:VCALENDAR
VERSION:2.0
PRODID:-//Government of Guam, Department of Labor - ECPv5.16.2.1//NONSGML v1.0//EN
CALSCALE:GREGORIAN
METHOD:PUBLISH
X-WR-CALNAME:Government of Guam, Department of Labor
X-ORIGINAL-URL:https://dol.guam.gov
X-WR-CALDESC:Events for Government of Guam, Department of Labor
BEGIN:VTIMEZONE
TZID:Australia/Melbourne
BEGIN:STANDARD
TZOFFSETFROM:+1100
TZOFFSETTO:+1000
TZNAME:AEST
DTSTART:20160402T160000
END:STANDARD
BEGIN:DAYLIGHT
TZOFFSETFROM:+1000
TZOFFSETTO:+1100
TZNAME:AEDT
DTSTART:20161001T160000
END:DAYLIGHT
END:VTIMEZONE
BEGIN:VEVENT
DTSTART;TZID=Australia/Melbourne:20161025T100000
DTEND;TZID=Australia/Melbourne:20161025T110000
DTSTAMP:20260423T070720
CREATED:20161020T061104Z
LAST-MODIFIED:20161020T061104Z
UID:1741-1477389600-1477393200@dol.guam.gov
SUMMARY:Employment Opportunities with Federal Contractors under Section 503 of the Rehab Act
DESCRIPTION:NDEAM 2016 Schedule of Activities Final \nEmployment Opportunities with Federal Contractors under Section 503 of the Rehab Act (OCP: Phillip Marlowe) \nDVR Conf. Rm.\, 6 th Floor\, DNA Bldg \n  \n 
URL:https://dol.guam.gov/event/employment-opportunities-with-federal-contractors-under-section-503-of-the-rehab-act/
LOCATION:DVR Conference Room\, 238 Archbishop Flores St\, DNA Building\, Hagatna\, Guam
CATEGORIES:DVR
END:VEVENT
END:VCALENDAR