BEGIN:VCALENDAR
VERSION:2.0
PRODID:-//Government of Guam, Department of Labor - ECPv5.16.2.1//NONSGML v1.0//EN
CALSCALE:GREGORIAN
METHOD:PUBLISH
X-WR-CALNAME:Government of Guam, Department of Labor
X-ORIGINAL-URL:https://dol.guam.gov
X-WR-CALDESC:Events for Government of Guam, Department of Labor
BEGIN:VTIMEZONE
TZID:Australia/Melbourne
BEGIN:STANDARD
TZOFFSETFROM:+1100
TZOFFSETTO:+1000
TZNAME:AEST
DTSTART:20150404T160000
END:STANDARD
BEGIN:DAYLIGHT
TZOFFSETFROM:+1000
TZOFFSETTO:+1100
TZNAME:AEDT
DTSTART:20151003T160000
END:DAYLIGHT
END:VTIMEZONE
BEGIN:VEVENT
DTSTART;TZID=Australia/Melbourne:20151027T090000
DTEND;TZID=Australia/Melbourne:20151027T110000
DTSTAMP:20260426T104158
CREATED:20151009T015044Z
LAST-MODIFIED:20151015T041643Z
UID:1089-1445936400-1445943600@dol.guam.gov
SUMMARY:Alien Labor Processing & Certification
DESCRIPTION:
URL:https://dol.guam.gov/event/alien-labor-processing-certification/
LOCATION:GDOL Conference Room (3rd Floor)\, 414 West Soledad Ave\, GCIC Building\, Hagatna\, 96910\, Guam
CATEGORIES:Department of Labor Clinics
END:VEVENT
END:VCALENDAR